BEGIN:VCALENDAR
VERSION:2.0
PRODID:-//ITFixed Computer Services - ECPv6.15.20//NONSGML v1.0//EN
CALSCALE:GREGORIAN
METHOD:PUBLISH
X-ORIGINAL-URL:https://www.itfixed.com
X-WR-CALDESC:Events for ITFixed Computer Services
REFRESH-INTERVAL;VALUE=DURATION:PT1H
X-Robots-Tag:noindex
X-PUBLISHED-TTL:PT1H
BEGIN:VTIMEZONE
TZID:America/New_York
BEGIN:DAYLIGHT
TZOFFSETFROM:-0500
TZOFFSETTO:-0400
TZNAME:EDT
DTSTART:20180311T070000
END:DAYLIGHT
BEGIN:STANDARD
TZOFFSETFROM:-0400
TZOFFSETTO:-0500
TZNAME:EST
DTSTART:20181104T060000
END:STANDARD
BEGIN:DAYLIGHT
TZOFFSETFROM:-0500
TZOFFSETTO:-0400
TZNAME:EDT
DTSTART:20190310T070000
END:DAYLIGHT
BEGIN:STANDARD
TZOFFSETFROM:-0400
TZOFFSETTO:-0500
TZNAME:EST
DTSTART:20191103T060000
END:STANDARD
BEGIN:DAYLIGHT
TZOFFSETFROM:-0500
TZOFFSETTO:-0400
TZNAME:EDT
DTSTART:20200308T070000
END:DAYLIGHT
BEGIN:STANDARD
TZOFFSETFROM:-0400
TZOFFSETTO:-0500
TZNAME:EST
DTSTART:20201101T060000
END:STANDARD
BEGIN:DAYLIGHT
TZOFFSETFROM:-0500
TZOFFSETTO:-0400
TZNAME:EDT
DTSTART:20210314T070000
END:DAYLIGHT
BEGIN:STANDARD
TZOFFSETFROM:-0400
TZOFFSETTO:-0500
TZNAME:EST
DTSTART:20211107T060000
END:STANDARD
BEGIN:DAYLIGHT
TZOFFSETFROM:-0500
TZOFFSETTO:-0400
TZNAME:EDT
DTSTART:20220313T070000
END:DAYLIGHT
BEGIN:STANDARD
TZOFFSETFROM:-0400
TZOFFSETTO:-0500
TZNAME:EST
DTSTART:20221106T060000
END:STANDARD
BEGIN:DAYLIGHT
TZOFFSETFROM:-0500
TZOFFSETTO:-0400
TZNAME:EDT
DTSTART:20230312T070000
END:DAYLIGHT
BEGIN:STANDARD
TZOFFSETFROM:-0400
TZOFFSETTO:-0500
TZNAME:EST
DTSTART:20231105T060000
END:STANDARD
BEGIN:DAYLIGHT
TZOFFSETFROM:-0500
TZOFFSETTO:-0400
TZNAME:EDT
DTSTART:20240310T070000
END:DAYLIGHT
BEGIN:STANDARD
TZOFFSETFROM:-0400
TZOFFSETTO:-0500
TZNAME:EST
DTSTART:20241103T060000
END:STANDARD
END:VTIMEZONE
BEGIN:VEVENT
DTSTART;TZID=America/New_York:20231212T180000
DTEND;TZID=America/New_York:20231212T210000
DTSTAMP:20260425T104243
CREATED:20230813T212116Z
LAST-MODIFIED:20230813T212116Z
UID:2646-1702404000-1702414800@www.itfixed.com
SUMMARY:WordPress Websites - Interactivity
DESCRIPTION:Take your WordPress website to the next level. Engage your viewer by offering an online store\, a bulletin board\, an event calendar\, contact forms\, and more. You will learn how to take your static website to a customer focused website. \nDays	Tu\nDates	12/12/2023 – 12/19/2023\nTimes	6:00 PM – 9:00 PM\n# of Hours	6\n# of Classes	2\n# of Weeks	2
URL:https://www.itfixed.com/event/wordpress-websites-interactivity-2/
LOCATION:Assabet Valley Regional Technical High School\, 215 Fitchburg St\, Marlborough\, MA\, 01752\, United States
CATEGORIES:WordPress
ATTACH;FMTTYPE=image/png:https://www.itfixed.com/wp-content/uploads/2018/10/wordpress-logo-680x400.png
END:VEVENT
BEGIN:VEVENT
DTSTART;TZID=America/New_York:20231120T180000
DTEND;TZID=America/New_York:20231120T210000
DTSTAMP:20260425T104243
CREATED:20230813T211839Z
LAST-MODIFIED:20230813T211839Z
UID:2644-1700503200-1700514000@www.itfixed.com
SUMMARY:WordPress Websites - Simple\, Easy\, & Quick
DESCRIPTION:WordPress is powerful software that anyone can use to create a blog or website. That power can be confusing to the beginner\, however\, you will soon experience the ease at which you can create. You will learn everything you need to know to setup and customize WordPress\, as well as be introduced to the basics of SEO. No previous experience with WordPress or website development necessary. At the end of the class you will have a working WordPress website and know how to maintain your website without any help. \nDays	M\nDates	11/20/2023 – 12/11/2023\nTimes	6:00 PM – 9:00 PM\n# of Hours	12\n# of Classes	4\n# of Weeks	4
URL:https://www.itfixed.com/event/wordpress-websites-simple-easy-quick-2/
LOCATION:Assabet Valley Regional Technical High School\, 215 Fitchburg St\, Marlborough\, MA\, 01752\, United States
CATEGORIES:WordPress
ATTACH;FMTTYPE=image/png:https://www.itfixed.com/wp-content/uploads/2018/10/wordpress-logo-680x400.png
END:VEVENT
BEGIN:VEVENT
DTSTART;TZID=America/New_York:20231012T180000
DTEND;TZID=America/New_York:20231012T210000
DTSTAMP:20260425T104243
CREATED:20230902T160825Z
LAST-MODIFIED:20230902T160825Z
UID:2658-1697133600-1697144400@www.itfixed.com
SUMMARY:Building a Small Business Website with WordPress
DESCRIPTION:Learn how to build a personal or small business website or blog in WordPress. In this course\, you’ll learn where to host your site\, how to install WordPress\, use themes\, customize your pages with your own images\, optimize your site for search engines\, how to backup your site and much more. \nStatus	Registration Available\nCourse Code	33104-F23\nSession	Fall 2023\nCategory	Marketing & Business\nDays	Th\nDates	10/12/2023 – 11/02/2023\nTimes	6:00 PM – 9:00 PM\n# of Hours	12\n# of Classes	4\n# of Weeks	4
URL:https://www.itfixed.com/event/building-a-small-business-website-with-wordpress-2/
LOCATION:Tri-County Regional Vocational Technical High School\, 147 Pond Street\, Franklin\, MA\, 02038
CATEGORIES:WordPress
ATTACH;FMTTYPE=image/png:https://www.itfixed.com/wp-content/uploads/2020/03/wp-logo-1.png
END:VEVENT
BEGIN:VEVENT
DTSTART;TZID=America/New_York:20191204T080000
DTEND;TZID=America/New_York:20191204T170000
DTSTAMP:20260425T104243
CREATED:20190828T180009Z
LAST-MODIFIED:20190828T180531Z
UID:1805-1575446400-1575478800@www.itfixed.com
SUMMARY:Advanced WordPress
DESCRIPTION:Go a step farther with WordPress with this 2 session class. Learn more about adding an online store\, bulletin board\, event calendar\, contact forms and more.
URL:https://www.itfixed.com/event/advanced-wordpress/
LOCATION:Tri-County Regional Vocational Technical High School\, 147 Pond Street\, Franklin\, MA\, 02038
CATEGORIES:WordPress
ATTACH;FMTTYPE=image/png:https://www.itfixed.com/wp-content/uploads/2018/10/wordpress-logo-680x400.png
END:VEVENT
BEGIN:VEVENT
DTSTART;TZID=America/New_York:20191119T183000
DTEND;TZID=America/New_York:20191119T213000
DTSTAMP:20260425T104243
CREATED:20190828T175720Z
LAST-MODIFIED:20190828T180620Z
UID:1803-1574188200-1574199000@www.itfixed.com
SUMMARY:WordPress Websites - Interactivity
DESCRIPTION:Take your WordPress website to the next level. Engage your viewer by offering  an online store\, a bulletin board\, an event calendar\, contact forms\, and more. You will learn how to take your static website to a customer focused website.
URL:https://www.itfixed.com/event/wordpress-websites-interactivity/
LOCATION:Assabet Valley Regional Technical High School\, 215 Fitchburg St\, Marlborough\, MA\, 01752\, United States
CATEGORIES:WordPress
ATTACH;FMTTYPE=image/png:https://www.itfixed.com/wp-content/uploads/2018/10/wordpress-logo-680x400.png
END:VEVENT
BEGIN:VEVENT
DTSTART;TZID=America/New_York:20191023T180000
DTEND;TZID=America/New_York:20191023T210000
DTSTAMP:20260425T104243
CREATED:20180501T030620Z
LAST-MODIFIED:20190828T175227Z
UID:909-1571853600-1571864400@www.itfixed.com
SUMMARY:Building a Small Business Website with Wordpress
DESCRIPTION:Learn how to build a personal or small business website or blog in WordPress. In this course\, you’ll learn where to host your site\, how to install WordPress\, use themes\, customize your pages with your own images\, optimize your site for search engines\, how to backup your site and much more. \n4 Classes\, Wednesdays
URL:https://www.itfixed.com/event/building-a-small-business-website-with-wordpress/
LOCATION:Tri-County Regional Vocational Technical High School\, 147 Pond Street\, Franklin\, MA\, 02038
CATEGORIES:WordPress
ATTACH;FMTTYPE=image/png:https://www.itfixed.com/wp-content/uploads/2018/10/wordpress-logo-680x400.png
END:VEVENT
BEGIN:VEVENT
DTSTART;TZID=America/New_York:20191022T183000
DTEND;TZID=America/New_York:20191022T213000
DTSTAMP:20260425T104243
CREATED:20180501T024402Z
LAST-MODIFIED:20190828T174615Z
UID:903-1571769000-1571779800@www.itfixed.com
SUMMARY:WordPress Websites - Simple\, Easy\, & Quick
DESCRIPTION:WordPress is powerful software that anyone can use to create a blog or website. That power can be confusing to the beginner\, however\, you will soon experience the ease at which you can create. You will learn everything you need to know to setup and customize WordPress\, as well as be introduce the basics of SEO. No previous experience with WordPress or website development necessary. At the end of the class you will have a working WordPress website and know how to maintain your website without any help. Total 4 classes on Tuesdays
URL:https://www.itfixed.com/event/wordpress-websites-simple-easy-quick/
LOCATION:Assabet Valley Regional Technical High School\, 215 Fitchburg St\, Marlborough\, MA\, 01752\, United States
CATEGORIES:WordPress
ATTACH;FMTTYPE=image/png:https://www.itfixed.com/wp-content/uploads/2018/10/wordpress-logo-680x400.png
END:VEVENT
END:VCALENDAR